BEGIN:VCALENDAR
VERSION:2.0
PRODID:spatie/icalendar-generator
DESCRIPTION:Veranstaltungen von Karate Dojo Grafing
X-WR-CALDESC:Veranstaltungen von Karate Dojo Grafing
REFRESH-INTERVAL;VALUE=DURATION:PT1440M
X-PUBLISHED-TTL:PT1440M
BEGIN:VTIMEZONE
TZID:Europe/Berlin
BEGIN:DAYLIGHT
DTSTART:20260329T020000Z
TZOFFSETFROM:+0100
TZOFFSETTO:+0200
END:DAYLIGHT
BEGIN:STANDARD
DTSTART:20261025T030000Z
TZOFFSETFROM:+0200
TZOFFSETTO:+0100
END:STANDARD
END:VTIMEZONE
BEGIN:VTIMEZONE
TZID:UTC
BEGIN:STANDARD
DTSTART:20250727T171000Z
TZOFFSETFROM:+0000
TZOFFSETTO:+0000
END:STANDARD
END:VTIMEZONE
BEGIN:VEVENT
UID:302-49
DTSTAMP:20260423T171000Z
SUMMARY:Training Sommerferien - mit Anmeldung
LOCATION:
ORGANIZER;CN=Olli:MAILTO:wichmann.o@t-online.de
RRULE:FREQ=WEEKLY;UNTIL=20260910T000000Z
DTSTART;TZID=Europe/Berlin:20260826T200000
DTEND;TZID=Europe/Berlin:20260826T213000
X-ALT-DESC;FMTTYPE=TEXT/HTML:Offen für alle Graduierungen - nur mit vorher
 iger Anmeldung. Mindestens 6 Teilnehmer.
CATEGORIES:Training,  buchbar
URL;VALUE=URI:https://karate-grafing.de/mc-events/training-sommerferien-mit
 -anmeldung/?mc_id=302
METHOD:PUBLISH
END:VEVENT
END:VCALENDAR