BEGIN:VCALENDAR
VERSION:2.0
PRODID:spatie/icalendar-generator
DESCRIPTION:Veranstaltungen von Karate Dojo Grafing
X-WR-CALDESC:Veranstaltungen von Karate Dojo Grafing
REFRESH-INTERVAL;VALUE=DURATION:PT1440M
X-PUBLISHED-TTL:PT1440M
BEGIN:VTIMEZONE
TZID:Europe/Berlin
BEGIN:DAYLIGHT
DTSTART:20260329T020000Z
TZOFFSETFROM:+0100
TZOFFSETTO:+0200
END:DAYLIGHT
BEGIN:STANDARD
DTSTART:20261025T030000Z
TZOFFSETFROM:+0200
TZOFFSETTO:+0100
END:STANDARD
BEGIN:DAYLIGHT
DTSTART:20270328T020000Z
TZOFFSETFROM:+0100
TZOFFSETTO:+0200
END:DAYLIGHT
END:VTIMEZONE
BEGIN:VTIMEZONE
TZID:UTC
BEGIN:STANDARD
DTSTART:20250727T170143Z
TZOFFSETFROM:+0000
TZOFFSETTO:+0000
END:STANDARD
END:VTIMEZONE
BEGIN:VEVENT
UID:281-42
DTSTAMP:20260423T170143Z
SUMMARY:LG Grafing - Weihnachtsfeier / Abendessen
LOCATION:Location Abendessen TBD
ORGANIZER;CN=Olli:MAILTO:wichmann.o@t-online.de
DTSTART;TZID=Europe/Berlin:20261205T181500
DTEND;TZID=Europe/Berlin:20261205T230000
X-ALT-DESC;FMTTYPE=TEXT/HTML:Offen für alle Mitglieder des Karate Dojo Gra
 fing und Lehrgangsgäste. Inklusive Weihnachtsfeier!! Organisatorin ist Na
 ncy - bitte kontaktiert sie für Sonderwünsche oder für Fragen. [wpforms
  id=\"35\" title=\"false\"]
CATEGORIES:Gemeinsam Essen,  buchbar
URL;VALUE=URI:https://karate-grafing.de/mc-events/lg-grafing-weihnachtsfeie
 r-abendessen-2/
METHOD:PUBLISH
END:VEVENT
END:VCALENDAR