BEGIN:VCALENDAR
VERSION:2.0
PRODID:spatie/icalendar-generator
DESCRIPTION:Veranstaltungen von Karate Dojo Grafing
X-WR-CALDESC:Veranstaltungen von Karate Dojo Grafing
REFRESH-INTERVAL;VALUE=DURATION:PT1440M
X-PUBLISHED-TTL:PT1440M
BEGIN:VTIMEZONE
TZID:Europe/Berlin
BEGIN:DAYLIGHT
DTSTART:20260329T020000Z
TZOFFSETFROM:+0100
TZOFFSETTO:+0200
END:DAYLIGHT
BEGIN:STANDARD
DTSTART:20261025T030000Z
TZOFFSETFROM:+0200
TZOFFSETTO:+0100
END:STANDARD
BEGIN:DAYLIGHT
DTSTART:20270328T020000Z
TZOFFSETFROM:+0100
TZOFFSETTO:+0200
END:DAYLIGHT
END:VTIMEZONE
BEGIN:VTIMEZONE
TZID:UTC
BEGIN:STANDARD
DTSTART:20250727T135410Z
TZOFFSETFROM:+0000
TZOFFSETTO:+0000
END:STANDARD
END:VTIMEZONE
BEGIN:VEVENT
UID:279-40
DTSTAMP:20260423T135410Z
SUMMARY:LG Grafing - Training Oberstufe
LOCATION:
ORGANIZER;CN=Olli:MAILTO:wichmann.o@t-online.de
DTSTART;TZID=Europe/Berlin:20261205T150000
DTEND;TZID=Europe/Berlin:20261205T163000
X-ALT-DESC;FMTTYPE=TEXT/HTML:Voraussetzung für die Teilnahme am Oberstufen
 training ist die Beherrschung des Ablaufes der Bassai Dai. &amp;nbsp\; Trainer
 : Wolf-Dieter Wichmann - 9. Dan &amp;nbsp\; [wpforms id=\"35\" title=\"false\"
 ]
CATEGORIES:Lehrgang Grafing - WD Wichmann,  buchbar
URL;VALUE=URI:https://karate-grafing.de/mc-events/lg-grafing-training-obers
 tufe-2/
METHOD:PUBLISH
END:VEVENT
END:VCALENDAR