BEGIN:VCALENDAR
VERSION:2.0
PRODID:spatie/icalendar-generator
DESCRIPTION:Veranstaltungen von Karate Dojo Grafing
X-WR-CALDESC:Veranstaltungen von Karate Dojo Grafing
REFRESH-INTERVAL;VALUE=DURATION:PT1440M
X-PUBLISHED-TTL:PT1440M
BEGIN:VTIMEZONE
TZID:Europe/Berlin
BEGIN:STANDARD
DTSTART:20261025T030000Z
TZOFFSETFROM:+0200
TZOFFSETTO:+0100
END:STANDARD
BEGIN:DAYLIGHT
DTSTART:20270328T020000Z
TZOFFSETFROM:+0100
TZOFFSETTO:+0200
END:DAYLIGHT
BEGIN:STANDARD
DTSTART:20271031T030000Z
TZOFFSETFROM:+0200
TZOFFSETTO:+0100
END:STANDARD
END:VTIMEZONE
BEGIN:VTIMEZONE
TZID:UTC
BEGIN:STANDARD
DTSTART:20250728T043511Z
TZOFFSETFROM:+0000
TZOFFSETTO:+0000
END:STANDARD
END:VTIMEZONE
BEGIN:VEVENT
UID:270-31
DTSTAMP:20260424T043511Z
SUMMARY:LG Grafing - DAN-Prüfung
LOCATION:
ORGANIZER;CN=Olli:MAILTO:wichmann.o@t-online.de
DTSTART;TZID=Europe/Berlin:20270620T090000
DTEND;TZID=Europe/Berlin:20270620T120000
X-ALT-DESC;FMTTYPE=TEXT/HTML:Prüfer sind: Wolf-Dieter Wichmann - 9. Dan TB
 D
CATEGORIES:Lehrgang Grafing - WD Wichmann,  buchbar
URL;VALUE=URI:https://karate-grafing.de/mc-events/lg-grafing-dan-pruefung/
METHOD:PUBLISH
END:VEVENT
END:VCALENDAR